BEGIN:VCALENDAR
VERSION:2.0
PRODID:-//Plone.org//NONSGML plone.app.event//EN
X-WR-TIMEZONE:Europe/Madrid
BEGIN:VEVENT
SUMMARY:gavina.mp3
DTSTART;TZID=Europe/Madrid;VALUE=DATE-TIME:20250711T220000
DTEND;TZID=Europe/Madrid;VALUE=DATE-TIME:20250711T230000
DTSTAMP;VALUE=DATE-TIME:20260422T200826Z
UID:176c3d1e73bf40a00e4d875f1a0d9990
CREATED;VALUE=DATE-TIME:20250711T000000Z
CATEGORIES:Música
LOCATION:Pèrgola Can Muntanyà - Parc Can Muntanyà
ORGANIZER:Fundació Palau
COMMENT:Preu: 15
DESCRIPTION:Festival Poesia i + 2025
URL:https://caldetes.cat/document.php?id=10653
END:VEVENT
END:VCALENDAR