BEGIN:VCALENDAR
VERSION:2.0
PRODID:-//Plone.org//NONSGML plone.app.event//EN
X-WR-TIMEZONE:Europe/Madrid
BEGIN:VEVENT
SUMMARY:Mohamad Bitari & Neus Ballbé
DTSTART;TZID=Europe/Madrid;VALUE=DATE-TIME:20250711T190000
DTEND;TZID=Europe/Madrid;VALUE=DATE-TIME:20250711T200000
DTSTAMP;VALUE=DATE-TIME:20260422T180750Z
UID:15287697fb43f708ff23d7a9a43116c0
CREATED;VALUE=DATE-TIME:20250711T000000Z
CATEGORIES:Literatura
LOCATION:Fundació Palau - La Riera, 54
ORGANIZER:Fundació Palau
COMMENT:Preu: 5
DESCRIPTION:Festival Poesia i + 2025
URL:https://caldetes.cat/document.php?id=10658
END:VEVENT
END:VCALENDAR