BEGIN:VCALENDAR
VERSION:2.0
PRODID:-//Plone.org//NONSGML plone.app.event//EN
X-WR-TIMEZONE:Europe/Madrid
BEGIN:VEVENT
SUMMARY:HORA DEL CONTE AMB PA AMB XOCOLATA. 'Dalt del cel'
DTSTART;TZID=Europe/Madrid;VALUE=DATE-TIME:20250808T190000
DTEND;TZID=Europe/Madrid;VALUE=DATE-TIME:20250808T200000
DTSTAMP;VALUE=DATE-TIME:20260422T164426Z
UID:d582a6409bb1749c9a9c5c2028c4b6a1
CREATED;VALUE=DATE-TIME:20250808T000000Z
CATEGORIES:Infantils
LOCATION:Biblioteca Can Milans - C/ Esglèsia, 6
ORGANIZER:Biblioteca Can Milans i ajuntament de Caldes d'Estrac
COMMENT:Preu: Gratuït
DESCRIPTION:A càrrec de Cristina Noguer
URL:https://caldetes.cat/document.php?id=10684
END:VEVENT
END:VCALENDAR