BEGIN:VCALENDAR
VERSION:2.0
PRODID:-//Plone.org//NONSGML plone.app.event//EN
X-WR-TIMEZONE:Europe/Madrid
BEGIN:VEVENT
SUMMARY:Espectacle infantil: Els Pànids
DTSTART;TZID=Europe/Madrid;VALUE=DATE-TIME:20250831T190000
DTEND;TZID=Europe/Madrid;VALUE=DATE-TIME:20250831T200000
DTSTAMP;VALUE=DATE-TIME:20260422T140857Z
UID:a1f8d6cde67a3e23b68739b56d685bbb
CREATED;VALUE=DATE-TIME:20250831T000000Z
CATEGORIES:Infantils
LOCATION:Parc Joan Maragall
DESCRIPTION:A càrrec de la Bèstia Peluda
URL:https://caldetes.cat/document.php?id=10717
END:VEVENT
END:VCALENDAR