BEGIN:VCALENDAR
VERSION:2.0
PRODID:-//Plone.org//NONSGML plone.app.event//EN
X-WR-TIMEZONE:Europe/Madrid
BEGIN:VEVENT
SUMMARY:Mati Refrescant
DTSTART;TZID=Europe/Madrid;VALUE=DATE-TIME:20250906T110000
DTEND;TZID=Europe/Madrid;VALUE=DATE-TIME:20250906T120000
DTSTAMP;VALUE=DATE-TIME:20260421T194019Z
UID:905fc4584d749e94b13b05e606ffe8d1
CREATED;VALUE=DATE-TIME:20250906T000000Z
CATEGORIES:Festa,Infantils
LOCATION:Plaça de les Barques i passeig marítim
COMMENT:Durada: 3h
DESCRIPTION:Rampa d'aigua "Splash Slide". Escumada i xeringada. 45 metres de tobogan aquàtic ple d'emoció. Activitat oberta a tots els públics (segons normativa d'ús)
URL:https://caldetes.cat/document.php?id=10727
END:VEVENT
END:VCALENDAR