BEGIN:VCALENDAR
VERSION:2.0
PRODID:-//Plone.org//NONSGML plone.app.event//EN
X-WR-TIMEZONE:Europe/Madrid
BEGIN:VEVENT
SUMMARY:Ballada de gegants
DTSTART;TZID=Europe/Madrid;VALUE=DATE-TIME:20250906T193000
DTEND;TZID=Europe/Madrid;VALUE=DATE-TIME:20250906T203000
DTSTAMP;VALUE=DATE-TIME:20260422T153603Z
UID:68bdc37b4065227c58179badae306bce
CREATED;VALUE=DATE-TIME:20250906T000000Z
CATEGORIES:Festa
LOCATION:Plaça de les Barques
ORGANIZER:Colla de Geganters i Grallers de Caldes d'Estrac
URL:https://caldetes.cat/document.php?id=10731
END:VEVENT
END:VCALENDAR