BEGIN:VCALENDAR
VERSION:2.0
PRODID:-//Plone.org//NONSGML plone.app.event//EN
X-WR-TIMEZONE:Europe/Madrid
BEGIN:VEVENT
SUMMARY:Cicle de cinema 'Cinema i artesania': Vida i treball
DTSTART;TZID=Europe/Madrid;VALUE=DATE-TIME:20250925T183000
DTEND;TZID=Europe/Madrid;VALUE=DATE-TIME:20250925T193000
DTSTAMP;VALUE=DATE-TIME:20260424T014629Z
UID:667a6429d5365cd71cb1a68750054ffc
CREATED;VALUE=DATE-TIME:20250925T000000Z
CATEGORIES:Cinema,Conferència
LOCATION:Fundació Palau - La Riera, 54
ORGANIZER:Fundació Palau
COMMENT:Preu: Entrada lliure
DESCRIPTION:Els dijous a la Palau
URL:https://caldetes.cat/document.php?id=10745
END:VEVENT
END:VCALENDAR