BEGIN:VCALENDAR
VERSION:2.0
PRODID:-//Plone.org//NONSGML plone.app.event//EN
X-WR-TIMEZONE:Europe/Madrid
BEGIN:VEVENT
SUMMARY:Missa Solemne
DTSTART;TZID=Europe/Madrid;VALUE=DATE-TIME:20250908T110000
DTEND;TZID=Europe/Madrid;VALUE=DATE-TIME:20250908T120000
DTSTAMP;VALUE=DATE-TIME:20260422T014028Z
UID:5a08d428bb528b0784714db98aa2ec3f
CREATED;VALUE=DATE-TIME:20250908T000000Z
LOCATION:Parròquia Santa Maria - Carrer l'Església, 37
ORGANIZER:Parròquia de Santa Maria
DESCRIPTION:en honor a la mare de Déu del Remei
URL:https://caldetes.cat/document.php?id=10751
END:VEVENT
END:VCALENDAR