BEGIN:VCALENDAR
VERSION:2.0
PRODID:-//Plone.org//NONSGML plone.app.event//EN
X-WR-TIMEZONE:Europe/Madrid
BEGIN:VEVENT
SUMMARY:La força Verdaguer en nosaltres
DTSTART;TZID=Europe/Madrid;VALUE=DATE-TIME:20250921T120000
DTEND;TZID=Europe/Madrid;VALUE=DATE-TIME:20250921T130000
DTSTAMP;VALUE=DATE-TIME:20260422T153650Z
UID:6ec72988cb8967570bcfd8fc4bc58159
CREATED;VALUE=DATE-TIME:20250921T000000Z
CATEGORIES:Cinema,Exposició,Música
LOCATION:Fundació Palau - La Riera, 54
ORGANIZER:Fundació Palau
COMMENT:Preu: Taquilla inversa
DESCRIPTION:ACCIÓ. NEUS DALMAU I COROMINAS. PINTURA, MÚSICA, MEDIUMNITAT I CINEMA
URL:https://caldetes.cat/document.php?id=10763
END:VEVENT
END:VCALENDAR