BEGIN:VCALENDAR
VERSION:2.0
PRODID:-//Plone.org//NONSGML plone.app.event//EN
X-WR-TIMEZONE:Europe/Madrid
BEGIN:VEVENT
SUMMARY:HORA DEL CONTE. Una castanyada de por. A càrrec de Joan de Boer.
DTSTART;TZID=Europe/Madrid;VALUE=DATE-TIME:20251024T173000
DTEND;TZID=Europe/Madrid;VALUE=DATE-TIME:20251024T183000
DTSTAMP;VALUE=DATE-TIME:20260423T132556Z
UID:1e0e1abd98a416b47296f062abe30ab2
CREATED;VALUE=DATE-TIME:20251024T000000Z
CATEGORIES:Literatura,Infantils
LOCATION:Sala Cultural - 1r pis de l'Ajuntament de Caldes d'Estrac, Pl. de la Vila s/n
ORGANIZER:Biblioteca Can Milans. Ajuntament de Caldes d'Estrac
COMMENT:Preu: Gratuït
URL:https://caldetes.cat/document.php?id=10775
END:VEVENT
END:VCALENDAR