BEGIN:VCALENDAR
VERSION:2.0
PRODID:-//Plone.org//NONSGML plone.app.event//EN
X-WR-TIMEZONE:Europe/Madrid
BEGIN:VEVENT
SUMMARY:Taller d'expressió artística. Descobreix el poder transformador de la creativitat.
DTSTART;TZID=Europe/Madrid;VALUE=DATE-TIME:20251025T103000
DTEND;TZID=Europe/Madrid;VALUE=DATE-TIME:20251025T113000
DTSTAMP;VALUE=DATE-TIME:20260425T003254Z
UID:2c3dbe7d7788af057134cc7783161fa7
CREATED;VALUE=DATE-TIME:20251025T000000Z
CATEGORIES:Cursos
LOCATION:Sala Cultural - 1r pis de l'Ajuntament de Caldes d'Estrac, Pl. de la Vila s/n
ORGANIZER:Biblioteca Can Milans. Ajuntament de Caldes d'Estrac
COMMENT:Preu: Gratuït
Durada: Cal inscripció prèvia. Del 17 de setembre al 17 d´octubre. A la biblioteca o trucant al 937913025.
DESCRIPTION:A càrrec de Luisa Grau i Merche Fournier
URL:https://caldetes.cat/document.php?id=10776
END:VEVENT
END:VCALENDAR