BEGIN:VCALENDAR
VERSION:2.0
PRODID:-//Plone.org//NONSGML plone.app.event//EN
X-WR-TIMEZONE:Europe/Madrid
BEGIN:VEVENT
SUMMARY:Curs de sardanes
DTSTART;TZID=Europe/Madrid;VALUE=DATE-TIME:20110424T113000
DTEND;TZID=Europe/Madrid;VALUE=DATE-TIME:20110424T123000
DTSTAMP;VALUE=DATE-TIME:20260422T024806Z
UID:c071ed2b8f59bcb4073c414f736ec7ec
CREATED;VALUE=DATE-TIME:20110424T000000Z
LOCATION:Esplanada Can Muntanyà
ORGANIZER:Agrupació de Pensionistes i Tercera Edat de Caldes d'Estrac amb la col·laboració de l'Ajuntament de Caldes d'Estrac
URL:https://caldetes.cat/document.php?id=1079
END:VEVENT
END:VCALENDAR