BEGIN:VCALENDAR
VERSION:2.0
PRODID:-//Plone.org//NONSGML plone.app.event//EN
X-WR-TIMEZONE:Europe/Madrid
BEGIN:VEVENT
SUMMARY:La senyora del Sake
DTSTART;TZID=Europe/Madrid;VALUE=DATE-TIME:20251004T180000
DTEND;TZID=Europe/Madrid;VALUE=DATE-TIME:20251004T190000
DTSTAMP;VALUE=DATE-TIME:20260422T180911Z
UID:f40922375b7dd3999c004ac990762248
CREATED;VALUE=DATE-TIME:20251004T000000Z
CATEGORIES:Mostra
LOCATION:Fundació Palau - La Riera, 54
ORGANIZER:Associació cultural Camí Ral 39
COMMENT:Preu: 10&euro;
Durada: De 18 a 22h
URL:https://caldetes.cat/document.php?id=10797
END:VEVENT
END:VCALENDAR