BEGIN:VCALENDAR
VERSION:2.0
PRODID:-//Plone.org//NONSGML plone.app.event//EN
X-WR-TIMEZONE:Europe/Madrid
BEGIN:VEVENT
SUMMARY:Petanca. Melés
DTSTART;TZID=Europe/Madrid;VALUE=DATE-TIME:20110402T163000
DTEND;TZID=Europe/Madrid;VALUE=DATE-TIME:20110402T173000
DTSTAMP;VALUE=DATE-TIME:20260424T083505Z
UID:f147bdf3e9bc20ec3a0a9c165d0491c1
CREATED;VALUE=DATE-TIME:20110402T000000Z
LOCATION:Pistes Municipals de Petanca
ORGANIZER:Club Petanca Caldes d'Estrac
URL:https://caldetes.cat/document.php?id=1080
END:VEVENT
END:VCALENDAR