BEGIN:VCALENDAR
VERSION:2.0
PRODID:-//Plone.org//NONSGML plone.app.event//EN
X-WR-TIMEZONE:Europe/Madrid
BEGIN:VEVENT
SUMMARY:Exposició &OpenCurlyQuote;Xavier entre llibres'
DTSTART;TZID=Europe/Madrid;VALUE=DATE-TIME:20260426T120000
DTEND;TZID=Europe/Madrid;VALUE=DATE-TIME:20260426T130000
DTSTAMP;VALUE=DATE-TIME:20260420T093151Z
UID:c752a7f205ea27f5cf9e7ab4ad779ff6
CREATED;VALUE=DATE-TIME:20251108T000000Z
CATEGORIES:Exposició
LOCATION:Fundació Palau - La Riera, 54
ORGANIZER:Fundació Palau
URL:https://caldetes.cat/document.php?id=10810
END:VEVENT
END:VCALENDAR