BEGIN:VCALENDAR
VERSION:2.0
PRODID:-//Plone.org//NONSGML plone.app.event//EN
X-WR-TIMEZONE:Europe/Madrid
BEGIN:VEVENT
SUMMARY:Potencia la presència online i productivitat del teu negoci amb la IA
DTSTART;TZID=Europe/Madrid;VALUE=DATE-TIME:20251120T093000
DTEND;TZID=Europe/Madrid;VALUE=DATE-TIME:20251120T103000
DTSTAMP;VALUE=DATE-TIME:20260422T225550Z
UID:b8c922cbe0d34221c67a225fdf8fd500
CREATED;VALUE=DATE-TIME:20251120T000000Z
CATEGORIES:Cursos
LOCATION:Altre (ho explico més avall)
ORGANIZER:Ajuntament de Caldes d'Estrac
COMMENT:Preu: Gratuït
Durada: 9:30 a 13:30h .  FORMACIÓ EN LINEA
URL:https://caldetes.cat/document.php?id=10813
END:VEVENT
END:VCALENDAR