BEGIN:VCALENDAR
VERSION:2.0
PRODID:-//Plone.org//NONSGML plone.app.event//EN
X-WR-TIMEZONE:Europe/Madrid
BEGIN:VEVENT
SUMMARY:Showcooking tast de vins del maresme. Música en viu. Veu i guitarra
DTSTART;TZID=Europe/Madrid;VALUE=DATE-TIME:20251025T190000
DTEND;TZID=Europe/Madrid;VALUE=DATE-TIME:20251025T200000
DTSTAMP;VALUE=DATE-TIME:20260419T234146Z
UID:8bf2da67fefb074c85705d146eabeb44
CREATED;VALUE=DATE-TIME:20251025T000000Z
CATEGORIES:Mostra
LOCATION:La riera 17, al carreró al costat del mercat muncipal
ORGANIZER:Consorci de Promoció turística del maresme i Ajuntament de Caldes d'Estrac amb el suport de la Diputació de Barcelona
COMMENT:Preu: Gratuït
Durada: de 19:00h a 21:00h
URL:https://caldetes.cat/document.php?id=10828
END:VEVENT
END:VCALENDAR