BEGIN:VCALENDAR
VERSION:2.0
PRODID:-//Plone.org//NONSGML plone.app.event//EN
X-WR-TIMEZONE:Europe/Madrid
BEGIN:VEVENT
SUMMARY:Petanca. Melés
DTSTART;TZID=Europe/Madrid;VALUE=DATE-TIME:20110423T163000
DTEND;TZID=Europe/Madrid;VALUE=DATE-TIME:20110423T173000
DTSTAMP;VALUE=DATE-TIME:20260420T080732Z
UID:16ae85a7b5f8e3f9a7aff88c19dec390
CREATED;VALUE=DATE-TIME:20110423T000000Z
LOCATION:Pistes Municipals de Petanca
ORGANIZER:Club Petanca Caldes d'Estrac
URL:https://caldetes.cat/document.php?id=1083
END:VEVENT
END:VCALENDAR