BEGIN:VCALENDAR
VERSION:2.0
PRODID:-//Plone.org//NONSGML plone.app.event//EN
X-WR-TIMEZONE:Europe/Madrid
BEGIN:VEVENT
SUMMARY:Petanca. Melés
DTSTART;TZID=Europe/Madrid;VALUE=DATE-TIME:20110430T163000
DTEND;TZID=Europe/Madrid;VALUE=DATE-TIME:20110430T173000
DTSTAMP;VALUE=DATE-TIME:20260422T204220Z
UID:1f937f353ae6669ddeca8e5f6c07ce60
CREATED;VALUE=DATE-TIME:20110430T000000Z
LOCATION:Pistes Municipals de Petanca
ORGANIZER:Club Petanca Caldes d'Estrac
URL:https://caldetes.cat/document.php?id=1084
END:VEVENT
END:VCALENDAR