BEGIN:VCALENDAR
VERSION:2.0
PRODID:-//Plone.org//NONSGML plone.app.event//EN
X-WR-TIMEZONE:Europe/Madrid
BEGIN:VEVENT
SUMMARY:Curs de d'Aikido/defensa personal femenina
DTSTART;TZID=Europe/Madrid;VALUE=DATE-TIME:20251122T110000
DTEND;TZID=Europe/Madrid;VALUE=DATE-TIME:20251122T120000
DTSTAMP;VALUE=DATE-TIME:20260424T014659Z
UID:5812a66e7362e176ac82c173a59d0fdd
CREATED;VALUE=DATE-TIME:20251122T000000Z
CATEGORIES:Esports,Cursos
LOCATION:Sala polivalent del Gimnàs Municipal
COMMENT:Durada: 2 hores
DESCRIPTION:En el marc dels actes pel Dia Internacional per a l'Eliminació de la Violència envers les Dones
URL:https://caldetes.cat/document.php?id=10841
END:VEVENT
END:VCALENDAR