BEGIN:VCALENDAR
VERSION:2.0
PRODID:-//Plone.org//NONSGML plone.app.event//EN
X-WR-TIMEZONE:Europe/Madrid
BEGIN:VEVENT
SUMMARY:TROBADA DEL CLUB DE LECTURA. 'Catedrales', de Claudia Piñeiro.
DTSTART;TZID=Europe/Madrid;VALUE=DATE-TIME:20260321T110000
DTEND;TZID=Europe/Madrid;VALUE=DATE-TIME:20260321T120000
DTSTAMP;VALUE=DATE-TIME:20260422T180637Z
UID:063ff78e11ad79257aa0388bb8eb9961
CREATED;VALUE=DATE-TIME:20260321T000000Z
CATEGORIES:Literatura
LOCATION:Biblioteca Can Milans - C/ Esglèsia, 6
ORGANIZER:Biblioteca Can Milans. Ajuntament de Caldes d'Estrac
COMMENT:Preu: Gratuït
DESCRIPTION:Dinamitza Èlia Portús.
URL:https://caldetes.cat/document.php?id=10844
END:VEVENT
END:VCALENDAR