BEGIN:VCALENDAR
VERSION:2.0
PRODID:-//Plone.org//NONSGML plone.app.event//EN
X-WR-TIMEZONE:Europe/Madrid
BEGIN:VEVENT
SUMMARY:TALLER. L'art de la meditació creativa.
DTSTART;TZID=Europe/Madrid;VALUE=DATE-TIME:20260227T180000
DTEND;TZID=Europe/Madrid;VALUE=DATE-TIME:20260227T190000
DTSTAMP;VALUE=DATE-TIME:20260421T213547Z
UID:7a1e66eb730eec72928588a419444a5a
CREATED;VALUE=DATE-TIME:20260227T000000Z
CATEGORIES:Cursos
LOCATION:Sala Cultural. 1r pis ajuntament de Caldes d´Estrac - 1r pis de l'Ajuntament de Caldes d'Estrac, Pl. de la Vila s/n
ORGANIZER:Biblioteca Can Milans. Ajuntament de Caldes d'Estrac
COMMENT:Preu: Gratuït
Durada: Cal inscripció prèvia. Fins el 26 de febrer, a la biblioteca o trucant al 937913025. Places limitades.
DESCRIPTION:A càrrec de Montse Moreno.
URL:https://caldetes.cat/document.php?id=10852
END:VEVENT
END:VCALENDAR