BEGIN:VCALENDAR
VERSION:2.0
PRODID:-//Plone.org//NONSGML plone.app.event//EN
X-WR-TIMEZONE:Europe/Madrid
BEGIN:VEVENT
SUMMARY:TALLER D'EXPRESSIÓ ARTÍSTICA. Descobreix el poder transformador de la creativitat.
DTSTART;TZID=Europe/Madrid;VALUE=DATE-TIME:20260221T103000
DTEND;TZID=Europe/Madrid;VALUE=DATE-TIME:20260221T113000
DTSTAMP;VALUE=DATE-TIME:20260423T012232Z
UID:4019258b74a8dc740382dca00485aa0d
CREATED;VALUE=DATE-TIME:20260221T000000Z
CATEGORIES:Cursos
LOCATION:Biblioteca Can Milans - C/ Esglèsia, 6
ORGANIZER:Biblioteca Can Milans. Ajuntament de Caldes d'Estrac
COMMENT:Preu: Gratuït
DESCRIPTION:A càrrec de Luisa Grau i Merche Fournier .
URL:https://caldetes.cat/document.php?id=10854
END:VEVENT
END:VCALENDAR