BEGIN:VCALENDAR
VERSION:2.0
PRODID:-//Plone.org//NONSGML plone.app.event//EN
X-WR-TIMEZONE:Europe/Madrid
BEGIN:VEVENT
SUMMARY:HORA DEL CONTE. Els sons robats.
DTSTART;TZID=Europe/Madrid;VALUE=DATE-TIME:20260220T173000
DTEND;TZID=Europe/Madrid;VALUE=DATE-TIME:20260220T183000
DTSTAMP;VALUE=DATE-TIME:20260422T031109Z
UID:41b296ff911efb884cd73ee8e3054518
CREATED;VALUE=DATE-TIME:20260220T000000Z
CATEGORIES:Literatura,Infantils
LOCATION:Biblioteca Can Milans - C/ Esglèsia, 6
ORGANIZER:Biblioteca Can Milans. Ajuntament de Caldes d'Estrac
COMMENT:Preu: Gratuït
DESCRIPTION:A càrrec de Lady Albergínia i el senyor patata.
URL:https://caldetes.cat/document.php?id=10855
END:VEVENT
END:VCALENDAR