BEGIN:VCALENDAR
VERSION:2.0
PRODID:-//Plone.org//NONSGML plone.app.event//EN
X-WR-TIMEZONE:Europe/Madrid
BEGIN:VEVENT
SUMMARY:TROBADA del club de lectura infantil.
DTSTART;TZID=Europe/Madrid;VALUE=DATE-TIME:20260216T170000
DTEND;TZID=Europe/Madrid;VALUE=DATE-TIME:20260216T180000
DTSTAMP;VALUE=DATE-TIME:20260425T210321Z
UID:b3223bb3c70caf1972486eafa9119f62
CREATED;VALUE=DATE-TIME:20260216T000000Z
CATEGORIES:Cursos,Literatura
LOCATION:Biblioteca Can Milans - C/ Esglèsia, 6
ORGANIZER:Biblioteca Can Milans. Ajuntament de Caldes d'Estrac
COMMENT:Preu: Gratuït
DESCRIPTION:Dinamitza: Mon Mas.
URL:https://caldetes.cat/document.php?id=10856
END:VEVENT
END:VCALENDAR