BEGIN:VCALENDAR
VERSION:2.0
PRODID:-//Plone.org//NONSGML plone.app.event//EN
X-WR-TIMEZONE:Europe/Madrid
BEGIN:VEVENT
SUMMARY:Barabum. "El caçabombolles"
DTSTART;TZID=Europe/Madrid;VALUE=DATE-TIME:20110402T113000
DTEND;TZID=Europe/Madrid;VALUE=DATE-TIME:20110402T123000
DTSTAMP;VALUE=DATE-TIME:20260423T020250Z
UID:9064b4b6478b61bcc00823c260b6104a
CREATED;VALUE=DATE-TIME:20110402T000000Z
LOCATION:Inicia Plaça de la Vila fins a la Pèrgola del Parc Joan Maragall
ORGANIZER:Ajuntament de Caldes d'Estrac i Coctelera Espectacles
DESCRIPTION:Cicle d'espectacles d'animació infantil al carrer
URL:https://caldetes.cat/document.php?id=1086
END:VEVENT
END:VCALENDAR