BEGIN:VCALENDAR
VERSION:2.0
PRODID:-//Plone.org//NONSGML plone.app.event//EN
X-WR-TIMEZONE:Europe/Madrid
BEGIN:VEVENT
SUMMARY:Cicle de cinema &OpenCurlyQuote;Cinema i artesania´: &OpenCurlyDoubleQuote;Cinema sense cinema&CloseCurlyDoubleQuote;
DTSTART;TZID=Europe/Madrid;VALUE=DATE-TIME:20251120T183000
DTEND;TZID=Europe/Madrid;VALUE=DATE-TIME:20251120T193000
DTSTAMP;VALUE=DATE-TIME:20260422T181243Z
UID:fb8f28e534272a47eece5d7c859af4fc
CREATED;VALUE=DATE-TIME:20251120T000000Z
CATEGORIES:Cinema,Conferència
LOCATION:Fundació Palau - La Riera, 54
ORGANIZER:Fundació Palau
COMMENT:Preu: Entrada lliure
DESCRIPTION:Els dijous a la Palau
URL:https://caldetes.cat/document.php?id=10867
END:VEVENT
END:VCALENDAR