BEGIN:VCALENDAR
VERSION:2.0
PRODID:-//Plone.org//NONSGML plone.app.event//EN
X-WR-TIMEZONE:Europe/Madrid
BEGIN:VEVENT
SUMMARY:TALLER DE CUINA MEXICANA
DTSTART;TZID=Europe/Madrid;VALUE=DATE-TIME:20251122T170000
DTEND;TZID=Europe/Madrid;VALUE=DATE-TIME:20251122T180000
DTSTAMP;VALUE=DATE-TIME:20260423T192336Z
UID:f543b0c15f789e2bc73bd578ccec79cb
CREATED;VALUE=DATE-TIME:20251122T000000Z
LOCATION:Espai Jove - La Fabriqueta (La Riera 5-9, entrada per Camí Ral).
ORGANIZER:Espai Jove de Caldes d'Estrac
COMMENT:Preu: Gratuït
URL:https://caldetes.cat/document.php?id=10877
END:VEVENT
END:VCALENDAR