BEGIN:VCALENDAR
VERSION:2.0
PRODID:-//Plone.org//NONSGML plone.app.event//EN
X-WR-TIMEZONE:Europe/Madrid
BEGIN:VEVENT
SUMMARY:Barabum. "Jocs de carrer-Tastet"
DTSTART;TZID=Europe/Madrid;VALUE=DATE-TIME:20110417T113000
DTEND;TZID=Europe/Madrid;VALUE=DATE-TIME:20110417T123000
DTSTAMP;VALUE=DATE-TIME:20260421T144357Z
UID:ebb2d1cb312f34edaec398fdd3b5ef04
CREATED;VALUE=DATE-TIME:20110417T000000Z
LOCATION:Parc Joan Maragall
ORGANIZER:Ajuntament de Caldes d'Estrac i Coctelera Espectacles
DESCRIPTION:Cicle d'espectacles d'animació infantil al carrer
URL:https://caldetes.cat/document.php?id=1088
END:VEVENT
END:VCALENDAR