BEGIN:VCALENDAR
VERSION:2.0
PRODID:-//Plone.org//NONSGML plone.app.event//EN
X-WR-TIMEZONE:Europe/Madrid
BEGIN:VEVENT
SUMMARY:Taller defensa personal a càrrec d'Aikido Estrac
DTSTART;TZID=Europe/Madrid;VALUE=DATE-TIME:20251122T110000
DTEND;TZID=Europe/Madrid;VALUE=DATE-TIME:20251122T120000
DTSTAMP;VALUE=DATE-TIME:20260422T184930Z
UID:961c8e1ce9055ade2110d57be82ad255
CREATED;VALUE=DATE-TIME:20251122T000000Z
LOCATION:Pavelló Poliesportiu Municipal - Carretera N-II, km 654
ORGANIZER:Aikido Estrac
COMMENT:Durada: 2 hores
DESCRIPTION:per majors de 16 anys
URL:https://caldetes.cat/document.php?id=10887
END:VEVENT
END:VCALENDAR