BEGIN:VCALENDAR
VERSION:2.0
PRODID:-//Plone.org//NONSGML plone.app.event//EN
X-WR-TIMEZONE:Europe/Madrid
BEGIN:VEVENT
SUMMARY:Torneig social de Festa Major d'hivern - Tirada de pernil
DTSTART;TZID=Europe/Madrid;VALUE=DATE-TIME:20251206T090000
DTEND;TZID=Europe/Madrid;VALUE=DATE-TIME:20251206T100000
DTSTAMP;VALUE=DATE-TIME:20260424T013208Z
UID:a72d11173941d9e6c2e32c1bd7362210
CREATED;VALUE=DATE-TIME:20251206T000000Z
CATEGORIES:Esports
LOCATION:Pistes Municipals de Petanca
ORGANIZER:Club Petanca Caldetes
URL:https://caldetes.cat/document.php?id=10895
END:VEVENT
END:VCALENDAR