BEGIN:VCALENDAR
VERSION:2.0
PRODID:-//Plone.org//NONSGML plone.app.event//EN
X-WR-TIMEZONE:Europe/Madrid
BEGIN:VEVENT
SUMMARY:Itinerari Vila-Puig per Caldes d'Estrac
DTSTART;TZID=Europe/Madrid;VALUE=DATE-TIME:20110402T120000
DTEND;TZID=Europe/Madrid;VALUE=DATE-TIME:20110402T130000
DTSTAMP;VALUE=DATE-TIME:20260423T192348Z
UID:f351064c1ac4ef22ea85b59c140b55db
CREATED;VALUE=DATE-TIME:20110402T000000Z
LOCATION:Fundació Palau
ORGANIZER:Fundació Palau amb la col·laboració d'Arrels Cultura
URL:https://caldetes.cat/document.php?id=1090
END:VEVENT
END:VCALENDAR