BEGIN:VCALENDAR
VERSION:2.0
PRODID:-//Plone.org//NONSGML plone.app.event//EN
X-WR-TIMEZONE:Europe/Madrid
BEGIN:VEVENT
SUMMARY:4t Concurs de capgrossos casolans
DTSTART;TZID=Europe/Madrid;VALUE=DATE-TIME:20251214T100000
DTEND;TZID=Europe/Madrid;VALUE=DATE-TIME:20251214T110000
DTSTAMP;VALUE=DATE-TIME:20260422T112053Z
UID:18ebb1be383ed746dd901230e6608425
CREATED;VALUE=DATE-TIME:20251214T000000Z
CATEGORIES:Infantils
LOCATION:Esplanada Can Muntanyà
URL:https://caldetes.cat/document.php?id=10901
END:VEVENT
END:VCALENDAR