BEGIN:VCALENDAR
VERSION:2.0
PRODID:-//Plone.org//NONSGML plone.app.event//EN
X-WR-TIMEZONE:Europe/Madrid
BEGIN:VEVENT
SUMMARY:Partit de Futbol Sala Base (benjamí mixte)
DTSTART;TZID=Europe/Madrid;VALUE=DATE-TIME:20110402T133000
DTEND;TZID=Europe/Madrid;VALUE=DATE-TIME:20110402T143000
DTSTAMP;VALUE=DATE-TIME:20260424T213212Z
UID:d425456f504d301a9fa3c6f4a36f4761
CREATED;VALUE=DATE-TIME:20110402T000000Z
LOCATION:Pavelló Poliesportiu Municipal
DESCRIPTION:FS Caldes d'Estrac vs Fs Interesportiu Malgrat
URL:https://caldetes.cat/document.php?id=1091
END:VEVENT
END:VCALENDAR