BEGIN:VCALENDAR
VERSION:2.0
PRODID:-//Plone.org//NONSGML plone.app.event//EN
X-WR-TIMEZONE:Europe/Madrid
BEGIN:VEVENT
SUMMARY:Partit de Futbol Sala Federat (preferent catalana)
DTSTART;TZID=Europe/Madrid;VALUE=DATE-TIME:20110402T183000
DTEND;TZID=Europe/Madrid;VALUE=DATE-TIME:20110402T193000
DTSTAMP;VALUE=DATE-TIME:20260424T001159Z
UID:d569e6aaf2b9e9bcf602674f0a8a8b32
CREATED;VALUE=DATE-TIME:20110402T000000Z
LOCATION:Pavelló Poliesportiu Municipal
DESCRIPTION:Caldes d'Estrac FS "A" vs Tous CFS
URL:https://caldetes.cat/document.php?id=1093
END:VEVENT
END:VCALENDAR