BEGIN:VCALENDAR
VERSION:2.0
PRODID:-//Plone.org//NONSGML plone.app.event//EN
X-WR-TIMEZONE:Europe/Madrid
BEGIN:VEVENT
SUMMARY:Ball de Carnaval
DTSTART;TZID=Europe/Madrid;VALUE=DATE-TIME:20260214T230000
DTEND;TZID=Europe/Madrid;VALUE=DATE-TIME:20260215T000000
DTSTAMP;VALUE=DATE-TIME:20260422T012416Z
UID:c0d432cc105a044712b5db848d5eacfe
CREATED;VALUE=DATE-TIME:20260214T000000Z
CATEGORIES:Festa
LOCATION:Sala Cultural - 1r pis de l'Ajuntament de Caldes d'Estrac, Pl. de la Vila s/n
ORGANIZER:Ajuntament de Caldes d'Estrac
COMMENT:Preu: Activitat gratuïta
DESCRIPTION:Amb Dj Henry Jones i amb el servei del bar de l'Associació Esportiva Cal Muntanyà
URL:https://caldetes.cat/document.php?id=10952
END:VEVENT
END:VCALENDAR