BEGIN:VCALENDAR
VERSION:2.0
PRODID:-//Plone.org//NONSGML plone.app.event//EN
X-WR-TIMEZONE:Europe/Madrid
BEGIN:VEVENT
SUMMARY:Caldes recorda a Josep Palau i Fabre
DTSTART;TZID=Europe/Madrid;VALUE=DATE-TIME:20260222T110000
DTEND;TZID=Europe/Madrid;VALUE=DATE-TIME:20260222T120000
DTSTAMP;VALUE=DATE-TIME:20260419T204705Z
UID:3b545784d7e94f4d46833a37c76ccd10
CREATED;VALUE=DATE-TIME:20260222T000000Z
CATEGORIES:Visita guiada
LOCATION:Fundació Palau - La Riera, 54
ORGANIZER:Fundació Palau i Ajuntament de Caldes d'Estrac
URL:https://caldetes.cat/document.php?id=10956
END:VEVENT
END:VCALENDAR