BEGIN:VCALENDAR
VERSION:2.0
PRODID:-//Plone.org//NONSGML plone.app.event//EN
X-WR-TIMEZONE:Europe/Madrid
BEGIN:VEVENT
SUMMARY:Taller de roses
DTSTART;TZID=Europe/Madrid;VALUE=DATE-TIME:20110405T170000
DTEND;TZID=Europe/Madrid;VALUE=DATE-TIME:20110405T180000
DTSTAMP;VALUE=DATE-TIME:20260423T062031Z
UID:4276c325323aeaee57c909d755bd9aa1
CREATED;VALUE=DATE-TIME:20110405T000000Z
LOCATION:Equipament de Promoció Econòmica i Cultural
ORGANIZER:Àrea de Serveis Socials de l'Ajuntament de Caldes d'Estrac
DESCRIPTION:a càrrec de Pilar de Vilar, psicòloga de Serveis Socials
URL:https://caldetes.cat/document.php?id=1097
END:VEVENT
END:VCALENDAR