BEGIN:VCALENDAR
VERSION:2.0
PRODID:-//Plone.org//NONSGML plone.app.event//EN
X-WR-TIMEZONE:Europe/Madrid
BEGIN:VEVENT
SUMMARY:Recital en homenatge a Joan Maragall i Inauguració de l'exposició itinerant "Joan Maragall, 2 viles, 1 poeta"
DTSTART;TZID=Europe/Madrid;VALUE=DATE-TIME:20110408T180000
DTEND;TZID=Europe/Madrid;VALUE=DATE-TIME:20110408T190000
DTSTAMP;VALUE=DATE-TIME:20260424T001058Z
UID:f124f585dd32acb6ca2fcc1241765c81
CREATED;VALUE=DATE-TIME:20110408T000000Z
LOCATION:Equipament de Promoció Econòmica i Cultural
ORGANIZER:Biblioteca Can Milans amb la col·laboració de l'Associació Dones de Caldes d'Estrac
URL:https://caldetes.cat/document.php?id=1098
END:VEVENT
END:VCALENDAR