BEGIN:VCALENDAR
VERSION:2.0
PRODID:-//Plone.org//NONSGML plone.app.event//EN
X-WR-TIMEZONE:Europe/Madrid
BEGIN:VEVENT
SUMMARY:Hora del conte
DTSTART;TZID=Europe/Madrid;VALUE=DATE-TIME:20110408T180000
DTEND;TZID=Europe/Madrid;VALUE=DATE-TIME:20110408T190000
DTSTAMP;VALUE=DATE-TIME:20260423T120118Z
UID:52af6bd5c0c16baa01b104944d28303b
CREATED;VALUE=DATE-TIME:20110408T000000Z
LOCATION:Biblioteca Can Milans
ORGANIZER:Biblioteca Can Milans
DESCRIPTION:"Dones d'aigua" a càrrec de Tururuth
URL:https://caldetes.cat/document.php?id=1099
END:VEVENT
END:VCALENDAR