BEGIN:VCALENDAR
VERSION:2.0
PRODID:-//Plone.org//NONSGML plone.app.event//EN
X-WR-TIMEZONE:Europe/Madrid
BEGIN:VEVENT
SUMMARY:Partit de Futbol Sala Base (prebenjamí mixte)
DTSTART;TZID=Europe/Madrid;VALUE=DATE-TIME:20110409T113000
DTEND;TZID=Europe/Madrid;VALUE=DATE-TIME:20110409T123000
DTSTAMP;VALUE=DATE-TIME:20260420T021414Z
UID:2517805bac2ddafb6c5ece64be800fd9
CREATED;VALUE=DATE-TIME:20110409T000000Z
LOCATION:Pavelló Poliesportiu Municipal
DESCRIPTION:FS Caldes d'Estrac vs FS Canyamars
URL:https://caldetes.cat/document.php?id=1100
END:VEVENT
END:VCALENDAR