BEGIN:VCALENDAR
VERSION:2.0
PRODID:-//Plone.org//NONSGML plone.app.event//EN
X-WR-TIMEZONE:Europe/Madrid
BEGIN:VEVENT
SUMMARY:Vermut electrònic de primavera
DTSTART;TZID=Europe/Madrid;VALUE=DATE-TIME:20260322T120000
DTEND;TZID=Europe/Madrid;VALUE=DATE-TIME:20260322T130000
DTSTAMP;VALUE=DATE-TIME:20260422T201842Z
UID:2efa753ad5b5eaf9984c341c7d812035
CREATED;VALUE=DATE-TIME:20260322T000000Z
CATEGORIES:Música
LOCATION:Pèrgola Can Muntanyà - Parc Can Muntanyà
COMMENT:Durada: De 12h a 17h
DESCRIPTION:Amb DJ Raxon
URL:https://caldetes.cat/document.php?id=11000
END:VEVENT
END:VCALENDAR