BEGIN:VCALENDAR
VERSION:2.0
PRODID:-//Plone.org//NONSGML plone.app.event//EN
X-WR-TIMEZONE:Europe/Madrid
BEGIN:VEVENT
SUMMARY:TROBADA DE CLUBS DE LECTURA DEL MARESME: Reconeixement a Care Santos
DTSTART;TZID=Europe/Madrid;VALUE=DATE-TIME:20260430T180000
DTEND;TZID=Europe/Madrid;VALUE=DATE-TIME:20260430T190000
DTSTAMP;VALUE=DATE-TIME:20260423T071807Z
UID:5ddfb4c6a288b7c586743bd1d1e5ac5b
CREATED;VALUE=DATE-TIME:20260430T000000Z
CATEGORIES:Literatura
LOCATION:Teatre Monumental de Mataró
ORGANIZER:Biblioteques de Mataró, Ajuntament de Mataró i biblioteques del Maresme
DESCRIPTION:L'entrevista Montse Barderi
URL:https://caldetes.cat/document.php?id=11009
END:VEVENT
END:VCALENDAR