BEGIN:VCALENDAR
VERSION:2.0
PRODID:-//Plone.org//NONSGML plone.app.event//EN
X-WR-TIMEZONE:Europe/Madrid
BEGIN:VEVENT
SUMMARY:Ball popular
DTSTART;TZID=Europe/Madrid;VALUE=DATE-TIME:20110409T190000
DTEND;TZID=Europe/Madrid;VALUE=DATE-TIME:20110409T200000
DTSTAMP;VALUE=DATE-TIME:20260421T225819Z
UID:8bc4d9ad57487aa3f6daf80f47a83710
CREATED;VALUE=DATE-TIME:20110409T000000Z
LOCATION:Sala Cultural
ORGANIZER:Agrupació de Pensionistes i Tercera Edat de Caldes d'Estrac
URL:https://caldetes.cat/document.php?id=1103
END:VEVENT
END:VCALENDAR