BEGIN:VCALENDAR
VERSION:2.0
PRODID:-//Plone.org//NONSGML plone.app.event//EN
X-WR-TIMEZONE:Europe/Madrid
BEGIN:VEVENT
SUMMARY:III Festival Catalunya amb l'Índia
DTSTART;TZID=Europe/Madrid;VALUE=DATE-TIME:20110410T100000
DTEND;TZID=Europe/Madrid;VALUE=DATE-TIME:20110410T110000
DTSTAMP;VALUE=DATE-TIME:20260426T024641Z
UID:656dcf8d60c3810a94f71431992abeb3
CREATED;VALUE=DATE-TIME:20110410T000000Z
LOCATION:Pavelló Poliesportiu Municipal
ORGANIZER:Associació "El Somriure dels nens"
URL:https://caldetes.cat/document.php?id=1104
END:VEVENT
END:VCALENDAR