BEGIN:VCALENDAR
VERSION:2.0
PRODID:-//Plone.org//NONSGML plone.app.event//EN
X-WR-TIMEZONE:Europe/Madrid
BEGIN:VEVENT
SUMMARY:Jornada de portes obertes de l'Escola Bressol Sagrada Família
DTSTART;TZID=Europe/Madrid;VALUE=DATE-TIME:20260424T000000
DTEND;TZID=Europe/Madrid;VALUE=DATE-TIME:20260424T010000
DTSTAMP;VALUE=DATE-TIME:20260422T053007Z
UID:b316663c9d7d3154bc195cfe1b172945
CREATED;VALUE=DATE-TIME:20260422T000000Z
CATEGORIES:Infantils
LOCATION:Escola Bressol - Carrer Mestre Joan Barber s/n
URL:https://caldetes.cat/document.php?id=11047
END:VEVENT
END:VCALENDAR