BEGIN:VCALENDAR
VERSION:2.0
PRODID:-//Plone.org//NONSGML plone.app.event//EN
X-WR-TIMEZONE:Europe/Madrid
BEGIN:VEVENT
SUMMARY:Caminades per les nostres terres
DTSTART;TZID=Europe/Madrid;VALUE=DATE-TIME:20260626T080000
DTEND;TZID=Europe/Madrid;VALUE=DATE-TIME:20260626T090000
DTSTAMP;VALUE=DATE-TIME:20260422T202135Z
UID:20d83b3b60efc27af76e65ca33499827
CREATED;VALUE=DATE-TIME:20260626T000000Z
CATEGORIES:Esports
LOCATION:Sortida des de la Plaça de la Vila
ORGANIZER:Agrupació de Pensionistes i Tercera Edat de Caldes d'Estrac i Àrea de Gent Gran de l'Ajuntament de Caldes d'Estrac
URL:https://caldetes.cat/document.php?id=11048
END:VEVENT
END:VCALENDAR