BEGIN:VCALENDAR
VERSION:2.0
PRODID:-//Plone.org//NONSGML plone.app.event//EN
X-WR-TIMEZONE:Europe/Madrid
BEGIN:VEVENT
SUMMARY:Caminades per les nostres terres
DTSTART;TZID=Europe/Madrid;VALUE=DATE-TIME:20260529T080000
DTEND;TZID=Europe/Madrid;VALUE=DATE-TIME:20260529T090000
DTSTAMP;VALUE=DATE-TIME:20260420T073943Z
UID:d54ec943a9c4833219e80a229a5ab824
CREATED;VALUE=DATE-TIME:20260529T000000Z
CATEGORIES:Esports
LOCATION:Sortida des de la Plaça de la Vila
ORGANIZER:Agrupació de Pensionistes i Tercera Edat de Caldes d'Estrac i Àrea de Gent Gran de l'Ajuntament de Caldes d'Estrac
URL:https://caldetes.cat/document.php?id=11050
END:VEVENT
END:VCALENDAR