BEGIN:VCALENDAR
VERSION:2.0
PRODID:-//Plone.org//NONSGML plone.app.event//EN
X-WR-TIMEZONE:Europe/Madrid
BEGIN:VEVENT
SUMMARY:Exposició 'Nonell, Vallmitjana i els gitanos'
DTSTART;TZID=Europe/Madrid;VALUE=DATE-TIME:20260927T120000
DTEND;TZID=Europe/Madrid;VALUE=DATE-TIME:20260927T130000
DTSTAMP;VALUE=DATE-TIME:20260419T180409Z
UID:6d30aefee4ea1b5ace41fd0759b22b0b
CREATED;VALUE=DATE-TIME:20260530T000000Z
CATEGORIES:Exposició
LOCATION:Fundació Palau - La Riera, 54
ORGANIZER:Fundació Palau
URL:https://caldetes.cat/document.php?id=11051
END:VEVENT
END:VCALENDAR