BEGIN:VCALENDAR
VERSION:2.0
PRODID:-//Plone.org//NONSGML plone.app.event//EN
X-WR-TIMEZONE:Europe/Madrid
BEGIN:VEVENT
SUMMARY:Primera trobada dels Pressupostos Participatius
DTSTART;TZID=Europe/Madrid;VALUE=DATE-TIME:20260417T180000
DTEND;TZID=Europe/Madrid;VALUE=DATE-TIME:20260417T190000
DTSTAMP;VALUE=DATE-TIME:20260421T173220Z
UID:16d0046b8bdefb5570d44e3e82f57e6d
CREATED;VALUE=DATE-TIME:20260417T000000Z
CATEGORIES:Conferència
LOCATION:Sala Cultural - 1r pis de l'Ajuntament de Caldes d'Estrac, Pl. de la Vila s/n
ORGANIZER:Ajuntament
COMMENT:Preu: Gratuït
DESCRIPTION:Vine i digues la teva!
URL:https://caldetes.cat/document.php?id=11054
END:VEVENT
END:VCALENDAR